BEGIN:VCALENDAR
VERSION:2.0
PRODID:-//Labrador-Grenfell Health - ECPv6.6.3//NONSGML v1.0//EN
CALSCALE:GREGORIAN
METHOD:PUBLISH
X-ORIGINAL-URL:https://www.lghealth.ca
X-WR-CALDESC:Events for Labrador-Grenfell Health
REFRESH-INTERVAL;VALUE=DURATION:PT1H
X-Robots-Tag:noindex
X-PUBLISHED-TTL:PT1H
BEGIN:VTIMEZONE
TZID:UTC
BEGIN:STANDARD
TZOFFSETFROM:+0000
TZOFFSETTO:+0000
TZNAME:UTC
DTSTART:20180101T000000
END:STANDARD
END:VTIMEZONE
BEGIN:VEVENT
DTSTART;TZID=UTC:20181212T080000
DTEND;TZID=UTC:20181216T170000
DTSTAMP:20260420T143251
CREATED:20181212T175421Z
LAST-MODIFIED:20181212T175421Z
UID:5285-1544601600-1544979600@www.lghealth.ca
SUMMARY:LGH Public Event
DESCRIPTION:This is an example of a public event.
URL:https://www.lghealth.ca/event/lgh-public-event/
LOCATION:NL
END:VEVENT
END:VCALENDAR