BEGIN:VCALENDAR
VERSION:2.0
PRODID:-//Labrador-Grenfell Health - ECPv6.6.3//NONSGML v1.0//EN
CALSCALE:GREGORIAN
METHOD:PUBLISH
X-ORIGINAL-URL:https://www.lghealth.ca
X-WR-CALDESC:Events for Labrador-Grenfell Health
REFRESH-INTERVAL;VALUE=DURATION:PT1H
X-Robots-Tag:noindex
X-PUBLISHED-TTL:PT1H
BEGIN:VTIMEZONE
TZID:UTC
BEGIN:STANDARD
TZOFFSETFROM:+0000
TZOFFSETTO:+0000
TZNAME:UTC
DTSTART:20190101T000000
END:STANDARD
END:VTIMEZONE
BEGIN:VEVENT
DTSTART;TZID=UTC:20190402T130000
DTEND;TZID=UTC:20190402T150000
DTSTAMP:20260420T084101
CREATED:20190326T184604Z
LAST-MODIFIED:20190326T185052Z
UID:5444-1554210000-1554217200@www.lghealth.ca
SUMMARY:2019 Community Consultation Sessions - Sheshatshiu
DESCRIPTION:Sheshatshiu \nTuesday\, April 2nd  \n1:00 p.m. to 3:00 p.m local time \nInnu Ussiniun Youth Centre (Sheshatshiu\, NL\, A0P 1M0) \nClick here to register for the Sheshatshiu meeting \nhttps://www.eventbrite.ca/e/labrador-grenfell-health-community-meeting-sheshatshiu-tickets-59051507649
URL:https://www.lghealth.ca/event/2019-community-consultation-sessions-2/
LOCATION:Innu Ussiniun Youth Centre\, Sheshatshiu\, Newfoundland and Labrador\, A0P 1M0\, Canada
END:VEVENT
BEGIN:VEVENT
DTSTART;TZID=UTC:20190402T183000
DTEND;TZID=UTC:20190402T203000
DTSTAMP:20260420T084101
CREATED:20190326T185439Z
LAST-MODIFIED:20190326T191859Z
UID:5453-1554229800-1554237000@www.lghealth.ca
SUMMARY:2019 Community Consultation Sessions - Roddickton Area (rescheduled)
DESCRIPTION:Roddickton Area (rescheduled) \nTuesday\, April 2nd \n6:30 p.m. to 8:30 p.m local time \nGerry Byrne Room at the Roddickton-Bide Arm Arena (15 Cloud Drive\, Roddickton\, NL\, A0K 1J0) \nClick here to register for the Roddickton Area session \nhttps://www.eventbrite.ca/e/labrador-grenfell-health-community-meeting-northern-peninsula-east-tickets-59049710273
URL:https://www.lghealth.ca/event/2019-community-consultation-sessions-roddickton-area-rescheduled/
LOCATION:Gerry Byrne Room at the Roddickton-Bide Arm Arena\, 15 Cloud Drive\, Roddickton\, Newfoundland and Labrador\, A0K 1J0\, Canada
END:VEVENT
END:VCALENDAR