BEGIN:VCALENDAR
VERSION:2.0
PRODID:-//Labrador-Grenfell Health - ECPv6.6.3//NONSGML v1.0//EN
CALSCALE:GREGORIAN
METHOD:PUBLISH
X-ORIGINAL-URL:https://www.lghealth.ca
X-WR-CALDESC:Events for Labrador-Grenfell Health
REFRESH-INTERVAL;VALUE=DURATION:PT1H
X-Robots-Tag:noindex
X-PUBLISHED-TTL:PT1H
BEGIN:VTIMEZONE
TZID:UTC
BEGIN:STANDARD
TZOFFSETFROM:+0000
TZOFFSETTO:+0000
TZNAME:UTC
DTSTART:20190101T000000
END:STANDARD
END:VTIMEZONE
BEGIN:VEVENT
DTSTART;TZID=UTC:20190416T183000
DTEND;TZID=UTC:20190416T203000
DTSTAMP:20260420T084032
CREATED:20190326T185837Z
LAST-MODIFIED:20190416T204820Z
UID:5459-1555439400-1555446600@www.lghealth.ca
SUMMARY:POSTPONED - 2019 Community Consultation Sessions - Southeast Coast
DESCRIPTION:April 16\, 2019 – 1:28 p.m. AST\n*Due to inclement weather conditions\, this session has been postponed. A new date will be coordinated and communicated to the public when available. We apologize for any inconvenience this may cause.\n  \nSoutheast Coast \nTuesday\, April 16th \n6:30 p.m. to 8:30 p.m. \nBayside Academy (2 Bayside Crescent \, Port Hope Simpson\, NL\, A0K 4E0) \nClick here to register for the Southeast Coast session \nhttps://www.eventbrite.ca/e/labrador-grenfell-health-community-meeting-southeast-coast-tickets-59048597946
URL:https://www.lghealth.ca/event/2019-community-consultation-sessions-southeast-coast/
LOCATION:Bayside Academy\, 2 Bayside Crescent\, Port Hope Simpson\, Newfoundland and Labrador\, A0K 4E0\, Canada
CATEGORIES:engagement
ATTACH;FMTTYPE=image/png:https://www.lghealth.ca/wp-content/uploads/2019/03/Community-Consultations_Twitter.png
END:VEVENT
END:VCALENDAR