BEGIN:VCALENDAR
VERSION:2.0
PRODID:-//Labrador-Grenfell Health - ECPv6.6.3//NONSGML v1.0//EN
CALSCALE:GREGORIAN
METHOD:PUBLISH
X-WR-CALNAME:Labrador-Grenfell Health
X-ORIGINAL-URL:https://www.lghealth.ca
X-WR-CALDESC:Events for Labrador-Grenfell Health
REFRESH-INTERVAL;VALUE=DURATION:PT1H
X-Robots-Tag:noindex
X-PUBLISHED-TTL:PT1H
BEGIN:VTIMEZONE
TZID:UTC
BEGIN:STANDARD
TZOFFSETFROM:+0000
TZOFFSETTO:+0000
TZNAME:UTC
DTSTART:20190101T000000
END:STANDARD
END:VTIMEZONE
BEGIN:VEVENT
DTSTART;TZID=UTC:20191028T130000
DTEND;TZID=UTC:20191028T150000
DTSTAMP:20260419T223018
CREATED:20191025T142436Z
LAST-MODIFIED:20191025T142436Z
UID:6587-1572267600-1572274800@www.lghealth.ca
SUMMARY:A Workshop with Steve Coombs
DESCRIPTION:Workshop_Poster_Steve_Coombs_Goose Bay
URL:https://www.lghealth.ca/event/a-workshop-with-steve-coombs/
LOCATION:Labrador-Grenfell Health Administration Building\, 348 Hamilton River Rd\, Happy Valley-Goose Bay\, Newfoundland and Labrador\, A0P 1C0\, Canada
END:VEVENT
END:VCALENDAR