BEGIN:VCALENDAR
VERSION:2.0
PRODID:-//Labrador-Grenfell Health - ECPv6.6.3//NONSGML v1.0//EN
CALSCALE:GREGORIAN
METHOD:PUBLISH
X-ORIGINAL-URL:https://www.lghealth.ca
X-WR-CALDESC:Events for Labrador-Grenfell Health
REFRESH-INTERVAL;VALUE=DURATION:PT1H
X-Robots-Tag:noindex
X-PUBLISHED-TTL:PT1H
BEGIN:VTIMEZONE
TZID:UTC
BEGIN:STANDARD
TZOFFSETFROM:+0000
TZOFFSETTO:+0000
TZNAME:UTC
DTSTART:20190101T000000
END:STANDARD
END:VTIMEZONE
BEGIN:VEVENT
DTSTART;VALUE=DATE:20190604
DTEND;VALUE=DATE:20190605
DTSTAMP:20260420T041308
CREATED:20190509T180830Z
LAST-MODIFIED:20190509T184818Z
UID:5631-1559606400-1559692799@www.lghealth.ca
SUMMARY:Fundamental Concepts in Addictions
DESCRIPTION:Fundamental Concepts in Addictions \nThis workshop provides basic information and awareness in the area of alcohol and other drug addictions. This workshop is a prerequisite for other workshops. \n  \nTopics include:      \n\nHigh risk groups\nDrug classifications\nHelpful caregiver attitudes\nAddictions and the family\n\n  \nSchedule (one day): \n\nSt. Anthony June 4\, 2019\nMakkovik June 12\, 2019\nLabrador City June 14\, 2019\nHappy Valley-Goose Bay June 18\, 2019\n\n  \n    \n  \n  \n 
URL:https://www.lghealth.ca/event/fundamental-concepts-in-addictions/
LOCATION:NL
CATEGORIES:Mental Health & Addictions Training
END:VEVENT
BEGIN:VEVENT
DTSTART;TZID=UTC:20190622T130000
DTEND;TZID=UTC:20190622T160000
DTSTAMP:20260420T041308
CREATED:20190618T161108Z
LAST-MODIFIED:20190618T161859Z
UID:5916-1561208400-1561219200@www.lghealth.ca
SUMMARY:Walk for Alzheimer's - Happy Valley-Goose Bay
DESCRIPTION:
URL:https://www.lghealth.ca/event/walk-for-alzheimers-happy-valley-goose-bay/
LOCATION:Town of Happy Valley-Goose Bay\, 212 Hamilton River Road\, Happy Valley-Goose Bay\, NL\, A0P 1C0\, Canada
CATEGORIES:Community Event
END:VEVENT
BEGIN:VEVENT
DTSTART;TZID=UTC:20190623T130000
DTEND;TZID=UTC:20190623T150000
DTSTAMP:20260420T041308
CREATED:20190612T195058Z
LAST-MODIFIED:20190612T195058Z
UID:5888-1561294800-1561302000@www.lghealth.ca
SUMMARY:Bike Rodeo 2019
DESCRIPTION:
URL:https://www.lghealth.ca/event/bike-rodeo-2019/
LOCATION:Mealy Mountain Collegiate\, 1 Voisey Drive\, Happy Valley-Goose Bay\, NL\, Canada
END:VEVENT
END:VCALENDAR